BEGIN:VCALENDAR
VERSION:2.0
PRODID:-//Le Flash - ECPv5.8.1//NONSGML v1.0//EN
CALSCALE:GREGORIAN
METHOD:PUBLISH
X-WR-CALNAME:Le Flash
X-ORIGINAL-URL:https://leflash.de
X-WR-CALDESC:Veranstaltungen für Le Flash
BEGIN:VTIMEZONE
TZID:Europe/Berlin
BEGIN:DAYLIGHT
TZOFFSETFROM:+0100
TZOFFSETTO:+0200
TZNAME:CEST
DTSTART:20170326T010000
END:DAYLIGHT
BEGIN:STANDARD
TZOFFSETFROM:+0200
TZOFFSETTO:+0100
TZNAME:CET
DTSTART:20171029T010000
END:STANDARD
END:VTIMEZONE
BEGIN:VEVENT
DTSTART;VALUE=DATE:20170630
DTEND;VALUE=DATE:20170701
DTSTAMP:20260424T104740
CREATED:20170611T102142Z
LAST-MODIFIED:20170611T102142Z
UID:3841-1498780800-1498867199@leflash.de
SUMMARY:Vernissage: Sam Anderson – Big Bird
DESCRIPTION:  \nDie 1982 in Los Angeles geborene Künstlerin Sam Anderson hat in der jüngeren Vergangenheit ein Werk geschaffen\, mit dem sich eine bemerkenswerte Magie und Kraft verbindet. Der Schwerpunkt ihrer Praxis liegt auf Skulpturen und Installationen\, wobei sie in regelmäßigen Abständen ebenfalls filmische Arbeiten realisiert. Dabei sind die Werke der mittlerweile in New York lebenden Künstlerin von einer ausgesprochen großen Bandbreite an Erscheinungsformen geprägt\, die von narrativen Bildschöpfungen bis hin zu nur schwerlich lesbaren und daher abstrakt anmutenden Formulierungen reicht. So treffen in dem Werk von Anderson aus Ton geformte Figuren\, wie etwa ein kniendes Mädchen\, ein Reiter oder ein asiatisch anmutender Gongspieler\, auf ephemere und poröse Materialcollagen\, für die sie unterschiedliche\, teilweise vorgefundene Stoffe und Objekte\, wie Blumensamen\, Steine\, Hölzer\, Gräser oder Holzplatten\, als Grundlage nutzt und diese nach bestimmten\, aber unergründlichen Kriterien strukturiert. Zwischen diesen beiden Extrema – den eindeutig auf Narration angelegten Plastiken und den kaum deutbaren Arrangements – sind naturalistische Skelette von Fröschen oder Vögeln anzusiedeln\, die ebenfalls zum Repertoire der Künstlerin gehören und eine andere Dimension der Realität in ihr Schaffen übertragen. \nUnabhängig von ihrer formalen Erscheinung\, muss dem Format der Werke von Sam Anderson eine besondere Bedeutung beigemessen werden\, da die meisten Werke auffällig klein gehalten sind. Die Objekte messen zwischen wenigen Zentimetern und einem halben Meter und weisen somit kindliche Dimensionen auf. Jegliche Form von Monumentalität erfährt eine Negation\, was nicht zuletzt auch durch die Fragilität vieler Werke unterstrichen wird. Für den Rezipienten bedeutet dieser Umstand eine kontinuierliche Vogelperspektive auf die Arbeiten\, die Sam Anderson in ihren Präsentationen zu komplexen Installationen verbindet. Durch das Zusammenspiel der Werke verhalten sich die Ausstellungen der Künstlerin wie inszenierte Landschaften oder Bühnen\, die entfernt an Dioramen erinnern. Gerade durch die Kombination und Verquickung der verschiedenartigen Werke evoziert sie besondere Wechselwirkungen und Spannungsverhältnisse\, die den Arbeiten und Arrangements Leben einhauchen und einen erheblichen Anteil an ihrer faszinierenden Wirkung haben. Die Künstlerin erschafft mit ihren Werken fabelhafte Welten\, die nicht nur genauso lebensnah wie lebensfremd erscheinen\, sondern auch eine Erweiterung des Möglichkeitsspektrum der Skulptur bedeuten\, die im weitesten Sinne an die Traditionen von Künstlern wie Joseph Beuys anschließen. \nEin ähnliches Potenzial verbindet sich ebenfalls mit dem filmischen Werken von Sam Anderson\, die erneut die Auseinandersetzung mit den Techniken der Collage erkennen lassen und für die sie eigene oder gefundene Aufnahmen\, untermalt von Musik und Sprache\, zu neuen Erzählungen zusammenfügt. Auch in diesen Werken werden traumartige Szenarien entworfen\, die allerdings im Gegensatz zu den skulpturalen und installativen Arbeiten noch wesentlich stärker im Hier und Jetzt verankert sind. \nDie Einmaligkeit ihres Schaffens hat Sam Anderson in den letzten Jahren ein beachtliches Renommee eingebracht\, sodass sie bereits einige wichtige Ausstellungsbeteiligungen verzeichnen kann. So hatte die Künstlerin Einzelausstellungen im Rowhouse Project in Baltimore (2016) sowie im Sculpture Center in New York (2013). Darüber hinaus war sie an wichtigen Gruppenausstellungen\, wie „Greater New York“ im MoMA PS1 beteiligt. \nFür den Kölnischen Kunstverein plant Anderson eine komplexe Werkschau\, die sowohl ältere als auch neue Arbeiten umfassen soll\, um auf diese Weise einen weiterreichenden Einblick in ihre Praxis zu ermöglichen. Neben der zentralen Ausstellungshalle sowie dem Kino sollen dabei ebenfalls die angrenzenden Kabinette des Kölnischen Kunstvereins genutzt werden\, sodass gewissermaßen ein Parcours durch die verschiedenen Welten von Sam Anderson möglich wird. \nAnlässlich der Ausstellung\, die in Kooperation mit dem SculptureCenter in New York ausgerichtet wird\, erscheint der erste Katalog der Künstlerin sowie eine unikatäre Edition. \nSam Anderson: Big Bird\n1.7. – 10.9.2017\nEröffnung: Freitag\, den 30.06. 2017\, 19 Uhr \n  \n(Text: Website des Veranstalters)
URL:https://leflash.de/kalender/vernissage-sam-anderson-big-bird/
LOCATION:Kölnischer Kunstverein\, Hahnenstraße 6\, Köln\, 50667\, Deutschland
END:VEVENT
END:VCALENDAR