BEGIN:VCALENDAR
VERSION:2.0
PRODID:-//Le Flash - ECPv5.8.1//NONSGML v1.0//EN
CALSCALE:GREGORIAN
METHOD:PUBLISH
X-WR-CALNAME:Le Flash
X-ORIGINAL-URL:https://leflash.de
X-WR-CALDESC:Veranstaltungen für Le Flash
BEGIN:VTIMEZONE
TZID:Europe/Berlin
BEGIN:DAYLIGHT
TZOFFSETFROM:+0100
TZOFFSETTO:+0200
TZNAME:CEST
DTSTART:20160327T010000
END:DAYLIGHT
BEGIN:STANDARD
TZOFFSETFROM:+0200
TZOFFSETTO:+0100
TZNAME:CET
DTSTART:20161030T010000
END:STANDARD
END:VTIMEZONE
BEGIN:VEVENT
DTSTART;TZID=Europe/Berlin:20161104T200000
DTEND;TZID=Europe/Berlin:20161104T200000
DTSTAMP:20260425T122254
CREATED:20161027T110219Z
LAST-MODIFIED:20161027T110219Z
UID:3187-1478289600-1478289600@leflash.de
SUMMARY:In Situ Guitar Fridays 5 – SERGIO SORRENTINO solo
DESCRIPTION:  \nSergio Sorrentino ist „einer der wichtigsten zeitgenössischen italienischen Gitarristen“ (RAI Radio Tre). Als ausübender Musiker fördert er das zeitgenössische Repertoire der klassischen und elektrischen Gitarre. Als Komponist und Improvisateur gründet er seine Musik auf Klangforschung und verbindet Elemente der zeitgenössischen klassischen Musik\, des Minimalismus\, der Avantgarde\, der Ambient Music und experimenteller Musik. \n  \n 
URL:https://leflash.de/kalender/in-situ-guitar-fridays_5_sergio_sorrentino_solo/
LOCATION:Dialograum Kreuzung an St. Helena\, Bornheimer Str. 130\, Bonn\, 53119
ORGANIZER;CN="In%20Situ%20Art%20Society":MAILTO:mail@in-situ-art-society.de
END:VEVENT
END:VCALENDAR